BEGIN:VCALENDAR
VERSION:2.0
PRODID:-//Bureau of Jewish Education of Greater Phoenix - ECPv6.15.20//NONSGML v1.0//EN
CALSCALE:GREGORIAN
METHOD:PUBLISH
X-ORIGINAL-URL:https://bjephoenix.org
X-WR-CALDESC:Events for Bureau of Jewish Education of Greater Phoenix
REFRESH-INTERVAL;VALUE=DURATION:PT1H
X-Robots-Tag:noindex
X-PUBLISHED-TTL:PT1H
BEGIN:VTIMEZONE
TZID:America/New_York
BEGIN:DAYLIGHT
TZOFFSETFROM:-0500
TZOFFSETTO:-0400
TZNAME:EDT
DTSTART:20240310T070000
END:DAYLIGHT
BEGIN:STANDARD
TZOFFSETFROM:-0400
TZOFFSETTO:-0500
TZNAME:EST
DTSTART:20241103T060000
END:STANDARD
BEGIN:DAYLIGHT
TZOFFSETFROM:-0500
TZOFFSETTO:-0400
TZNAME:EDT
DTSTART:20250309T070000
END:DAYLIGHT
BEGIN:STANDARD
TZOFFSETFROM:-0400
TZOFFSETTO:-0500
TZNAME:EST
DTSTART:20251102T060000
END:STANDARD
BEGIN:DAYLIGHT
TZOFFSETFROM:-0500
TZOFFSETTO:-0400
TZNAME:EDT
DTSTART:20260308T070000
END:DAYLIGHT
BEGIN:STANDARD
TZOFFSETFROM:-0400
TZOFFSETTO:-0500
TZNAME:EST
DTSTART:20261101T060000
END:STANDARD
END:VTIMEZONE
BEGIN:VEVENT
DTSTART;TZID=America/New_York:20250103T100000
DTEND;TZID=America/New_York:20250103T120000
DTSTAMP:20260423T135824
CREATED:20241220T203243Z
LAST-MODIFIED:20250929T030304Z
UID:10000011-1735898400-1735905600@bjephoenix.org
SUMMARY:Tikkun Olam Tales: Meet the Author
DESCRIPTION:
URL:https://bjephoenix.org/event/tikkun-olam-tales-meet-the-author/
LOCATION:Ina Levine Jewish Community Campus\, 12701 North Scottsdale Road\, Scottsdale\, AZ\, 85254\, United States
CATEGORIES:Family
END:VEVENT
END:VCALENDAR