BEGIN:VCALENDAR
VERSION:2.0
PRODID:-//Bureau of Jewish Education of Greater Phoenix - ECPv6.15.20//NONSGML v1.0//EN
CALSCALE:GREGORIAN
METHOD:PUBLISH
X-WR-CALNAME:Bureau of Jewish Education of Greater Phoenix
X-ORIGINAL-URL:https://bjephoenix.org
X-WR-CALDESC:Events for Bureau of Jewish Education of Greater Phoenix
REFRESH-INTERVAL;VALUE=DURATION:PT1H
X-Robots-Tag:noindex
X-PUBLISHED-TTL:PT1H
BEGIN:VTIMEZONE
TZID:America/New_York
BEGIN:DAYLIGHT
TZOFFSETFROM:-0500
TZOFFSETTO:-0400
TZNAME:EDT
DTSTART:20240310T070000
END:DAYLIGHT
BEGIN:STANDARD
TZOFFSETFROM:-0400
TZOFFSETTO:-0500
TZNAME:EST
DTSTART:20241103T060000
END:STANDARD
BEGIN:DAYLIGHT
TZOFFSETFROM:-0500
TZOFFSETTO:-0400
TZNAME:EDT
DTSTART:20250309T070000
END:DAYLIGHT
BEGIN:STANDARD
TZOFFSETFROM:-0400
TZOFFSETTO:-0500
TZNAME:EST
DTSTART:20251102T060000
END:STANDARD
BEGIN:DAYLIGHT
TZOFFSETFROM:-0500
TZOFFSETTO:-0400
TZNAME:EDT
DTSTART:20260308T070000
END:DAYLIGHT
BEGIN:STANDARD
TZOFFSETFROM:-0400
TZOFFSETTO:-0500
TZNAME:EST
DTSTART:20261101T060000
END:STANDARD
END:VTIMEZONE
BEGIN:VEVENT
DTSTART;TZID=America/New_York:20250110T093000
DTEND;TZID=America/New_York:20250110T103000
DTSTAMP:20260423T164333
CREATED:20241003T033509Z
LAST-MODIFIED:20250110T170925Z
UID:10000007-1736501400-1736505000@bjephoenix.org
SUMMARY:Tot Shabbat Hop
DESCRIPTION:Join the Phoenix Jewish preschool community for Shabbat morning\, followed by a BJE program in one of the preschool classrooms! \nThis is an amazing opportunity to explore different schools in our community. \nThis Tot Shabbat will be hosted at Chanen Preschool at Congregation Beth Israel. \n			\n				Register Now
URL:https://bjephoenix.org/event/tot-shabbat-hop-january-10-2025/
LOCATION:Chanen Preschool\, 10460 North 56th Street\, Paradise Valley\, AZ\, 85253\, United States
CATEGORIES:Family Shabbat
ATTACH;FMTTYPE=image/png:https://bjephoenix.org/wp-content/uploads/2024/09/TotShabbat_20220715.png
END:VEVENT
BEGIN:VEVENT
DTSTART;TZID=America/New_York:20250110T100000
DTEND;TZID=America/New_York:20250110T113000
DTSTAMP:20260423T164333
CREATED:20250113T164154Z
LAST-MODIFIED:20250115T174448Z
UID:10000022-1736503200-1736508600@bjephoenix.org
SUMMARY:Wise Aging: Living with Joy and Resilience
DESCRIPTION:Based on the Book: Wise Aging Living with Joy\, Resilience\, & Spirit. This course will follow the wisdom in this popular resource for aging well. \nFridays beginning January 10 through March 26 from 10:00 AM – 11:30 AM.Cost: $140 \nFaculty: Anita Rabenowitz \nSessions: \n\nJanuary 10\nJanuary 24\nFebruary 1\nFebruary 21\nMarch 7\nMarch 14\nMarch 28\n\n			\n				Register Now
URL:https://bjephoenix.org/event/wise-aging-living-with-joy-and-resilience/
LOCATION:Ina Levine Jewish Community Campus\, 12701 North Scottsdale Road\, Scottsdale\, AZ\, 85254\, United States
CATEGORIES:Jewish Life
ATTACH;FMTTYPE=image/png:https://bjephoenix.org/wp-content/uploads/2025/01/center-for-wise-aging-header.png
END:VEVENT
BEGIN:VEVENT
DTSTART;TZID=America/New_York:20250110T100000
DTEND;TZID=America/New_York:20250110T113000
DTSTAMP:20260423T164333
CREATED:20250115T195720Z
LAST-MODIFIED:20250115T195721Z
UID:10000087-1736503200-1736508600@bjephoenix.org
SUMMARY:Wise Aging: Living with Joy and Resilience
DESCRIPTION:Based on the Book: Wise Aging Living with Joy\, Resilience\, & Spirit. This course will follow the wisdom in this popular resource for aging well. \nFridays beginning January 10 through March 26 from 10:00 AM – 11:30 AM.Cost: $140 \nFaculty: Anita Rabenowitz \nSessions: \n\nJanuary 10\nJanuary 24\nFebruary 1\nFebruary 21\nMarch 7\nMarch 14\nMarch 28\n\n			\n				Register Now
URL:https://bjephoenix.org/event/wise-aging-living-with-joy-and-resilience-3/2025-01-10/
LOCATION:Ina Levine Jewish Community Campus\, 12701 North Scottsdale Road\, Scottsdale\, AZ\, 85254\, United States
CATEGORIES:Jewish Life
ATTACH;FMTTYPE=image/png:https://bjephoenix.org/wp-content/uploads/2025/01/center-for-wise-aging-header.png
END:VEVENT
BEGIN:VEVENT
DTSTART;TZID=America/New_York:20250110T113000
DTEND;TZID=America/New_York:20250110T130000
DTSTAMP:20260423T164333
CREATED:20250113T175028Z
LAST-MODIFIED:20250115T195906Z
UID:10000023-1736508600-1736514000@bjephoenix.org
SUMMARY:Wise Aging: Living with Joy and Resilience
DESCRIPTION:Based on the Book: Wise Aging Living with Joy\, Resilience\, & Spirit. This course will follow the wisdom in this popular resource for aging well. \nFridays beginning January 10 through May 16 from 11:30 AM – 1:00 PM. 14 ClassesCost: $280 \nFaculty: Nancy Pollinger \nNo Sessions: \n\nJanuary 24\nJanuary 31\nFebruary 21\nApril 11\nApril 18\n\n			\n				Register Now
URL:https://bjephoenix.org/event/wise-aging-living-with-joy-and-resilience-2/2025-01-10/
CATEGORIES:Jewish Life
ATTACH;FMTTYPE=image/png:https://bjephoenix.org/wp-content/uploads/2025/01/center-for-wise-aging-header.png
END:VEVENT
END:VCALENDAR