BEGIN:VCALENDAR
VERSION:2.0
PRODID:-//Bureau of Jewish Education of Greater Phoenix - ECPv6.15.20//NONSGML v1.0//EN
CALSCALE:GREGORIAN
METHOD:PUBLISH
X-ORIGINAL-URL:https://bjephoenix.org
X-WR-CALDESC:Events for Bureau of Jewish Education of Greater Phoenix
REFRESH-INTERVAL;VALUE=DURATION:PT1H
X-Robots-Tag:noindex
X-PUBLISHED-TTL:PT1H
BEGIN:VTIMEZONE
TZID:America/New_York
BEGIN:DAYLIGHT
TZOFFSETFROM:-0500
TZOFFSETTO:-0400
TZNAME:EDT
DTSTART:20240310T070000
END:DAYLIGHT
BEGIN:STANDARD
TZOFFSETFROM:-0400
TZOFFSETTO:-0500
TZNAME:EST
DTSTART:20241103T060000
END:STANDARD
BEGIN:DAYLIGHT
TZOFFSETFROM:-0500
TZOFFSETTO:-0400
TZNAME:EDT
DTSTART:20250309T070000
END:DAYLIGHT
BEGIN:STANDARD
TZOFFSETFROM:-0400
TZOFFSETTO:-0500
TZNAME:EST
DTSTART:20251102T060000
END:STANDARD
BEGIN:DAYLIGHT
TZOFFSETFROM:-0500
TZOFFSETTO:-0400
TZNAME:EDT
DTSTART:20260308T070000
END:DAYLIGHT
BEGIN:STANDARD
TZOFFSETFROM:-0400
TZOFFSETTO:-0500
TZNAME:EST
DTSTART:20261101T060000
END:STANDARD
END:VTIMEZONE
BEGIN:VEVENT
DTSTART;TZID=America/New_York:20250121T150000
DTEND;TZID=America/New_York:20250121T160000
DTSTAMP:20260423T074746
CREATED:20250110T173134Z
LAST-MODIFIED:20250115T163422Z
UID:10000044-1737471600-1737475200@bjephoenix.org
SUMMARY:Advanced Beginners Hebrew
DESCRIPTION:Tuesdays beginning January 7 through February 25 from 3:00pm – 4:30pmCost: $160 \nFaculty: Sophie Plapp \n			\n				Register Now
URL:https://bjephoenix.org/event/advanced-beginners-hebrew/2025-01-21/
LOCATION:Ina Levine Jewish Community Campus\, 12701 North Scottsdale Road\, Scottsdale\, AZ\, 85254\, United States
CATEGORIES:Adult Classes,Hebrew & Yiddish
ATTACH;FMTTYPE=image/jpeg:https://bjephoenix.org/wp-content/uploads/2025/01/advanced-beginners-hebrew.jpeg
END:VEVENT
END:VCALENDAR