BEGIN:VCALENDAR
VERSION:2.0
PRODID:-//Bureau of Jewish Education of Greater Phoenix - ECPv6.15.20//NONSGML v1.0//EN
CALSCALE:GREGORIAN
METHOD:PUBLISH
X-ORIGINAL-URL:https://bjephoenix.org
X-WR-CALDESC:Events for Bureau of Jewish Education of Greater Phoenix
REFRESH-INTERVAL;VALUE=DURATION:PT1H
X-Robots-Tag:noindex
X-PUBLISHED-TTL:PT1H
BEGIN:VTIMEZONE
TZID:America/New_York
BEGIN:DAYLIGHT
TZOFFSETFROM:-0500
TZOFFSETTO:-0400
TZNAME:EDT
DTSTART:20240310T070000
END:DAYLIGHT
BEGIN:STANDARD
TZOFFSETFROM:-0400
TZOFFSETTO:-0500
TZNAME:EST
DTSTART:20241103T060000
END:STANDARD
BEGIN:DAYLIGHT
TZOFFSETFROM:-0500
TZOFFSETTO:-0400
TZNAME:EDT
DTSTART:20250309T070000
END:DAYLIGHT
BEGIN:STANDARD
TZOFFSETFROM:-0400
TZOFFSETTO:-0500
TZNAME:EST
DTSTART:20251102T060000
END:STANDARD
BEGIN:DAYLIGHT
TZOFFSETFROM:-0500
TZOFFSETTO:-0400
TZNAME:EDT
DTSTART:20260308T070000
END:DAYLIGHT
BEGIN:STANDARD
TZOFFSETFROM:-0400
TZOFFSETTO:-0500
TZNAME:EST
DTSTART:20261101T060000
END:STANDARD
END:VTIMEZONE
BEGIN:VEVENT
DTSTART;TZID=America/New_York:20250204T163000
DTEND;TZID=America/New_York:20250204T180000
DTSTAMP:20260424T065547
CREATED:20250110T173412Z
LAST-MODIFIED:20250115T174950Z
UID:10000122-1738686600-1738692000@bjephoenix.org
SUMMARY:Intermediate Hebrew
DESCRIPTION:Tuesdays beginning January 7 through February 25 from 4:30 PM – 6:00 PMCost: $160 \nFaculty: Sophie Plapp \n			\n				Register Now
URL:https://bjephoenix.org/event/intermediate-hebrew/2025-02-04/
LOCATION:Ina Levine Jewish Community Campus\, 12701 North Scottsdale Road\, Scottsdale\, AZ\, 85254\, United States
CATEGORIES:Hebrew & Yiddish
ATTACH;FMTTYPE=image/png:https://bjephoenix.org/wp-content/uploads/2025/01/BeginnersConversationalHebrew_Thumbnail_EditBegA.png
END:VEVENT
BEGIN:VEVENT
DTSTART;TZID=America/New_York:20250205T150000
DTEND;TZID=America/New_York:20250205T163000
DTSTAMP:20260424T065547
CREATED:20250110T173545Z
LAST-MODIFIED:20250115T174831Z
UID:10000115-1738767600-1738773000@bjephoenix.org
SUMMARY:Advanced Intermediate Hebrew
DESCRIPTION:Wednesdays beginning January 8 through February 26 from 3:00 PM – 4:30 PMCost: $160 \nFaculty: Sophie Plapp \n			\n				Register Now
URL:https://bjephoenix.org/event/advanced-intermediate-hebrew/2025-02-05/
LOCATION:Ina Levine Jewish Community Campus\, 12701 North Scottsdale Road\, Scottsdale\, AZ\, 85254\, United States
CATEGORIES:Hebrew & Yiddish
ATTACH;FMTTYPE=image/png:https://bjephoenix.org/wp-content/uploads/2025/01/advanced-intermediate-hebrew.png
END:VEVENT
BEGIN:VEVENT
DTSTART;TZID=America/New_York:20250205T163000
DTEND;TZID=America/New_York:20250205T180000
DTSTAMP:20260424T065547
CREATED:20250113T160115Z
LAST-MODIFIED:20250115T174708Z
UID:10000108-1738773000-1738778400@bjephoenix.org
SUMMARY:Advanced Hebrew
DESCRIPTION:Advanced Hebrew Conversation \nWednesday beginning January 8 through February 26 from 4:30 PM – 6:00 PMCost: $160 \nFaculty: Sophie Plapp \n			\n				Register Now
URL:https://bjephoenix.org/event/advanced-hebrew/2025-02-05/
LOCATION:Ina Levine Jewish Community Campus\, 12701 North Scottsdale Road\, Scottsdale\, AZ\, 85254\, United States
CATEGORIES:Adult Classes,Hebrew & Yiddish
ATTACH;FMTTYPE=image/jpeg:https://bjephoenix.org/wp-content/uploads/2025/01/AdvancedConversationalHebrew_Thumbnail.jpg
END:VEVENT
BEGIN:VEVENT
DTSTART;TZID=America/New_York:20250211T163000
DTEND;TZID=America/New_York:20250211T180000
DTSTAMP:20260424T065547
CREATED:20250110T173412Z
LAST-MODIFIED:20250115T174950Z
UID:10000123-1739291400-1739296800@bjephoenix.org
SUMMARY:Intermediate Hebrew
DESCRIPTION:Tuesdays beginning January 7 through February 25 from 4:30 PM – 6:00 PMCost: $160 \nFaculty: Sophie Plapp \n			\n				Register Now
URL:https://bjephoenix.org/event/intermediate-hebrew/2025-02-11/
LOCATION:Ina Levine Jewish Community Campus\, 12701 North Scottsdale Road\, Scottsdale\, AZ\, 85254\, United States
CATEGORIES:Hebrew & Yiddish
ATTACH;FMTTYPE=image/png:https://bjephoenix.org/wp-content/uploads/2025/01/BeginnersConversationalHebrew_Thumbnail_EditBegA.png
END:VEVENT
BEGIN:VEVENT
DTSTART;TZID=America/New_York:20250212T150000
DTEND;TZID=America/New_York:20250212T163000
DTSTAMP:20260424T065547
CREATED:20250110T173545Z
LAST-MODIFIED:20250115T174831Z
UID:10000116-1739372400-1739377800@bjephoenix.org
SUMMARY:Advanced Intermediate Hebrew
DESCRIPTION:Wednesdays beginning January 8 through February 26 from 3:00 PM – 4:30 PMCost: $160 \nFaculty: Sophie Plapp \n			\n				Register Now
URL:https://bjephoenix.org/event/advanced-intermediate-hebrew/2025-02-12/
LOCATION:Ina Levine Jewish Community Campus\, 12701 North Scottsdale Road\, Scottsdale\, AZ\, 85254\, United States
CATEGORIES:Hebrew & Yiddish
ATTACH;FMTTYPE=image/png:https://bjephoenix.org/wp-content/uploads/2025/01/advanced-intermediate-hebrew.png
END:VEVENT
BEGIN:VEVENT
DTSTART;TZID=America/New_York:20250212T163000
DTEND;TZID=America/New_York:20250212T180000
DTSTAMP:20260424T065547
CREATED:20250113T160115Z
LAST-MODIFIED:20250115T174708Z
UID:10000109-1739377800-1739383200@bjephoenix.org
SUMMARY:Advanced Hebrew
DESCRIPTION:Advanced Hebrew Conversation \nWednesday beginning January 8 through February 26 from 4:30 PM – 6:00 PMCost: $160 \nFaculty: Sophie Plapp \n			\n				Register Now
URL:https://bjephoenix.org/event/advanced-hebrew/2025-02-12/
LOCATION:Ina Levine Jewish Community Campus\, 12701 North Scottsdale Road\, Scottsdale\, AZ\, 85254\, United States
CATEGORIES:Adult Classes,Hebrew & Yiddish
ATTACH;FMTTYPE=image/jpeg:https://bjephoenix.org/wp-content/uploads/2025/01/AdvancedConversationalHebrew_Thumbnail.jpg
END:VEVENT
BEGIN:VEVENT
DTSTART;TZID=America/New_York:20250218T163000
DTEND;TZID=America/New_York:20250218T180000
DTSTAMP:20260424T065547
CREATED:20250110T173412Z
LAST-MODIFIED:20250115T174950Z
UID:10000124-1739896200-1739901600@bjephoenix.org
SUMMARY:Intermediate Hebrew
DESCRIPTION:Tuesdays beginning January 7 through February 25 from 4:30 PM – 6:00 PMCost: $160 \nFaculty: Sophie Plapp \n			\n				Register Now
URL:https://bjephoenix.org/event/intermediate-hebrew/2025-02-18/
LOCATION:Ina Levine Jewish Community Campus\, 12701 North Scottsdale Road\, Scottsdale\, AZ\, 85254\, United States
CATEGORIES:Hebrew & Yiddish
ATTACH;FMTTYPE=image/png:https://bjephoenix.org/wp-content/uploads/2025/01/BeginnersConversationalHebrew_Thumbnail_EditBegA.png
END:VEVENT
BEGIN:VEVENT
DTSTART;TZID=America/New_York:20250219T150000
DTEND;TZID=America/New_York:20250219T163000
DTSTAMP:20260424T065547
CREATED:20250110T173545Z
LAST-MODIFIED:20250115T174831Z
UID:10000117-1739977200-1739982600@bjephoenix.org
SUMMARY:Advanced Intermediate Hebrew
DESCRIPTION:Wednesdays beginning January 8 through February 26 from 3:00 PM – 4:30 PMCost: $160 \nFaculty: Sophie Plapp \n			\n				Register Now
URL:https://bjephoenix.org/event/advanced-intermediate-hebrew/2025-02-19/
LOCATION:Ina Levine Jewish Community Campus\, 12701 North Scottsdale Road\, Scottsdale\, AZ\, 85254\, United States
CATEGORIES:Hebrew & Yiddish
ATTACH;FMTTYPE=image/png:https://bjephoenix.org/wp-content/uploads/2025/01/advanced-intermediate-hebrew.png
END:VEVENT
BEGIN:VEVENT
DTSTART;TZID=America/New_York:20250219T163000
DTEND;TZID=America/New_York:20250219T180000
DTSTAMP:20260424T065547
CREATED:20250113T160115Z
LAST-MODIFIED:20250115T174708Z
UID:10000110-1739982600-1739988000@bjephoenix.org
SUMMARY:Advanced Hebrew
DESCRIPTION:Advanced Hebrew Conversation \nWednesday beginning January 8 through February 26 from 4:30 PM – 6:00 PMCost: $160 \nFaculty: Sophie Plapp \n			\n				Register Now
URL:https://bjephoenix.org/event/advanced-hebrew/2025-02-19/
LOCATION:Ina Levine Jewish Community Campus\, 12701 North Scottsdale Road\, Scottsdale\, AZ\, 85254\, United States
CATEGORIES:Adult Classes,Hebrew & Yiddish
ATTACH;FMTTYPE=image/jpeg:https://bjephoenix.org/wp-content/uploads/2025/01/AdvancedConversationalHebrew_Thumbnail.jpg
END:VEVENT
BEGIN:VEVENT
DTSTART;TZID=America/New_York:20250225T163000
DTEND;TZID=America/New_York:20250225T180000
DTSTAMP:20260424T065547
CREATED:20250110T173412Z
LAST-MODIFIED:20250115T174950Z
UID:10000125-1740501000-1740506400@bjephoenix.org
SUMMARY:Intermediate Hebrew
DESCRIPTION:Tuesdays beginning January 7 through February 25 from 4:30 PM – 6:00 PMCost: $160 \nFaculty: Sophie Plapp \n			\n				Register Now
URL:https://bjephoenix.org/event/intermediate-hebrew/2025-02-25/
LOCATION:Ina Levine Jewish Community Campus\, 12701 North Scottsdale Road\, Scottsdale\, AZ\, 85254\, United States
CATEGORIES:Hebrew & Yiddish
ATTACH;FMTTYPE=image/png:https://bjephoenix.org/wp-content/uploads/2025/01/BeginnersConversationalHebrew_Thumbnail_EditBegA.png
END:VEVENT
BEGIN:VEVENT
DTSTART;TZID=America/New_York:20250226T150000
DTEND;TZID=America/New_York:20250226T163000
DTSTAMP:20260424T065547
CREATED:20250110T173545Z
LAST-MODIFIED:20250115T174831Z
UID:10000118-1740582000-1740587400@bjephoenix.org
SUMMARY:Advanced Intermediate Hebrew
DESCRIPTION:Wednesdays beginning January 8 through February 26 from 3:00 PM – 4:30 PMCost: $160 \nFaculty: Sophie Plapp \n			\n				Register Now
URL:https://bjephoenix.org/event/advanced-intermediate-hebrew/2025-02-26/
LOCATION:Ina Levine Jewish Community Campus\, 12701 North Scottsdale Road\, Scottsdale\, AZ\, 85254\, United States
CATEGORIES:Hebrew & Yiddish
ATTACH;FMTTYPE=image/png:https://bjephoenix.org/wp-content/uploads/2025/01/advanced-intermediate-hebrew.png
END:VEVENT
BEGIN:VEVENT
DTSTART;TZID=America/New_York:20250226T163000
DTEND;TZID=America/New_York:20250226T180000
DTSTAMP:20260424T065547
CREATED:20250113T160115Z
LAST-MODIFIED:20250115T174708Z
UID:10000111-1740587400-1740592800@bjephoenix.org
SUMMARY:Advanced Hebrew
DESCRIPTION:Advanced Hebrew Conversation \nWednesday beginning January 8 through February 26 from 4:30 PM – 6:00 PMCost: $160 \nFaculty: Sophie Plapp \n			\n				Register Now
URL:https://bjephoenix.org/event/advanced-hebrew/2025-02-26/
LOCATION:Ina Levine Jewish Community Campus\, 12701 North Scottsdale Road\, Scottsdale\, AZ\, 85254\, United States
CATEGORIES:Adult Classes,Hebrew & Yiddish
ATTACH;FMTTYPE=image/jpeg:https://bjephoenix.org/wp-content/uploads/2025/01/AdvancedConversationalHebrew_Thumbnail.jpg
END:VEVENT
END:VCALENDAR